BEGIN:VCALENDAR
VERSION:2.0
PRODID:-//Shop Absolute run Runnercoach - ECPv6.15.20//NONSGML v1.0//EN
CALSCALE:GREGORIAN
METHOD:PUBLISH
X-ORIGINAL-URL:https://shop.absolute-run-runnercoach.nl
X-WR-CALDESC:Evenementen voor Shop Absolute run Runnercoach
REFRESH-INTERVAL;VALUE=DURATION:PT1H
X-Robots-Tag:noindex
X-PUBLISHED-TTL:PT1H
BEGIN:VTIMEZONE
TZID:Europe/Helsinki
BEGIN:DAYLIGHT
TZOFFSETFROM:+0200
TZOFFSETTO:+0300
TZNAME:EEST
DTSTART:20250330T010000
END:DAYLIGHT
BEGIN:STANDARD
TZOFFSETFROM:+0300
TZOFFSETTO:+0200
TZNAME:EET
DTSTART:20251026T010000
END:STANDARD
BEGIN:DAYLIGHT
TZOFFSETFROM:+0200
TZOFFSETTO:+0300
TZNAME:EEST
DTSTART:20260329T010000
END:DAYLIGHT
BEGIN:STANDARD
TZOFFSETFROM:+0300
TZOFFSETTO:+0200
TZNAME:EET
DTSTART:20261025T010000
END:STANDARD
BEGIN:DAYLIGHT
TZOFFSETFROM:+0200
TZOFFSETTO:+0300
TZNAME:EEST
DTSTART:20270328T010000
END:DAYLIGHT
BEGIN:STANDARD
TZOFFSETFROM:+0300
TZOFFSETTO:+0200
TZNAME:EET
DTSTART:20271031T010000
END:STANDARD
END:VTIMEZONE
BEGIN:VEVENT
DTSTART;TZID=Europe/Helsinki:20260217T193000
DTEND;TZID=Europe/Helsinki:20260217T210000
DTSTAMP:20260421T135456
CREATED:20260108T142231Z
LAST-MODIFIED:20260108T144458Z
UID:15065-1771356600-1771362000@shop.absolute-run-runnercoach.nl
SUMMARY:Brooks Test & Try
DESCRIPTION:Op dinsdag 17 februari\, net na Valentijnsdag\, organiseren wij samen met Brooks een bijzondere Test & Try Community Run: Love the Run. Want hardlopen draait niet alleen om kilometers maken\, maar vooral om plezier\, verbinding en samen genieten – een mooie kans om je passie voor hardlopen te delen! \nTijdens deze training staat de gloednieuwe Brooks Glycerine Flex centraal. Je kunt deze schoenen uitgebreid testen rondom de Toolenburgerplas en ervaren hoe ze jouw run nét dat beetje extra geven. \n📅 Datum: Dinsdag 17 februari\n⏰ Start: 19:30 uur\n📍 Locatie: Toolenburgerplas – bij Restaurant Long Island \nWaarom Love the Run bijzonder is: \n❤️ Hardlopen in groepsverband met focus op het sociale aspect\n👥 Elke ronde loop je met een ander loopmaatje\n👟 Test de nieuwste Brooks-modellen\, inclusief de Glycerine Flex\n🍴 Hapje en drankje verzorgd door Brooks\n💸 Gratis deelname voor iedereen! \nAfstanden – iedereen loopt op eigen tempo: \n1 ronde – 3 km\n2 rondes – 6 km\n3 rondes – 9 km \n⚠️ Tip: Vergeet geen armlampje of lichtvest voor je veiligheid. \nOf je nu komt voor het lopen\, het testen van schoenen\, of gewoon de gezelligheid: Love the Run is er voor alle niveaus ❤️
URL:https://shop.absolute-run-runnercoach.nl/event/brooks-test-try/
LOCATION:Restaurant Long Island\, IJweg 1270\, Hoofddorp\, Noord-Holland\, 2133 MJ\, Netherlands
ATTACH;FMTTYPE=image/jpeg:https://shop.absolute-run-runnercoach.nl/wp-content/uploads/2026/01/thumbnail_Post-17-2.jpg
END:VEVENT
END:VCALENDAR