BEGIN:VCALENDAR
VERSION:2.0
PRODID:-//Shop Absolute run Runnercoach - ECPv6.15.20//NONSGML v1.0//EN
CALSCALE:GREGORIAN
METHOD:PUBLISH
X-ORIGINAL-URL:https://shop.absolute-run-runnercoach.nl
X-WR-CALDESC:Evenementen voor Shop Absolute run Runnercoach
REFRESH-INTERVAL;VALUE=DURATION:PT1H
X-Robots-Tag:noindex
X-PUBLISHED-TTL:PT1H
BEGIN:VTIMEZONE
TZID:Europe/Helsinki
BEGIN:DAYLIGHT
TZOFFSETFROM:+0200
TZOFFSETTO:+0300
TZNAME:EEST
DTSTART:20250330T010000
END:DAYLIGHT
BEGIN:STANDARD
TZOFFSETFROM:+0300
TZOFFSETTO:+0200
TZNAME:EET
DTSTART:20251026T010000
END:STANDARD
BEGIN:DAYLIGHT
TZOFFSETFROM:+0200
TZOFFSETTO:+0300
TZNAME:EEST
DTSTART:20260329T010000
END:DAYLIGHT
BEGIN:STANDARD
TZOFFSETFROM:+0300
TZOFFSETTO:+0200
TZNAME:EET
DTSTART:20261025T010000
END:STANDARD
BEGIN:DAYLIGHT
TZOFFSETFROM:+0200
TZOFFSETTO:+0300
TZNAME:EEST
DTSTART:20270328T010000
END:DAYLIGHT
BEGIN:STANDARD
TZOFFSETFROM:+0300
TZOFFSETTO:+0200
TZNAME:EET
DTSTART:20271031T010000
END:STANDARD
END:VTIMEZONE
BEGIN:VEVENT
DTSTART;TZID=Europe/Helsinki:20260303T193000
DTEND;TZID=Europe/Helsinki:20260303T210000
DTSTAMP:20260421T120019
CREATED:20260220T161611Z
LAST-MODIFIED:20260220T161705Z
UID:15103-1772566200-1772571600@shop.absolute-run-runnercoach.nl
SUMMARY:HOKA Test & Try Run
DESCRIPTION:🏃‍♂️ HOKA Test & Try Run – Dinsdag 3 maart! 🏃‍♀️ \n👟 Test gratis de nieuwste HOKA modellen — inclusief de gloednieuwe Cielo X1 3.0 🔥 \nZoek je snelheid? De Cielo X1 3.0 staat voor je klaar.\nOnze lichtste superschoen is terug — sneller\, directer en efficiënter dan ooit. \n🔥 Carbonvezelplaat voor explosieve voortstuwing\n⚡ Ultrareactief PEBA-schuim\n🏁 Asymmetrische vetersluiting voor maximale ondersteuning\n🌀 Vernieuwde hiel voor extra stabiliteit \nMinimaal gewicht\, maximale pace. Gemaakt om records te breken. \n👟 Ook andere snelle HOKA modellen zijn aanwezig om te testen! \n📅 Datum: Dinsdag 3 maart\n⏰ Start: 19:30 uur\n📍 Locatie: Toolenburgerplas – bij Restaurant Long Island \n🥤 Hapje en drankje na afloop\n💸 Gratis deelname voor iedereen! \n🏃 Afstanden – iedereen loopt op eigen tempo:\n• 1 ronde – 3 km\n• 2 rondes – 6 km\n• 3 rondes – 9 km \n⚠️ Tip: Vergeet geen armlampje of lichtvest voor je veiligheid.
URL:https://shop.absolute-run-runnercoach.nl/event/hoka-test-try-run/
LOCATION:Restaurant Long Island\, IJweg 1270\, Hoofddorp\, Noord-Holland\, 2133 MJ\, Netherlands
ATTACH;FMTTYPE=image/png:https://shop.absolute-run-runnercoach.nl/wp-content/uploads/2026/02/Hoka-test-try.png
END:VEVENT
END:VCALENDAR